BEGIN:VCALENDAR
PRODID:-//AT Content Types//AT Event//EN
VERSION:2.0
METHOD:PUBLISH
BEGIN:VEVENT
DTSTAMP:20260420T224304Z
CREATED:20191115T103748Z
UID:ATEvent-a4bd15a0e8124d8da2bd36345548fa09
LAST-MODIFIED:20191115T103748Z
SUMMARY:CMP-ASM
DTSTART:20200403T070000Z
DTEND:20200403T083000Z
LOCATION:Lecture Room Euler
CONTACT:A. Scardicchio
URL:https://diploma-clear.ictp.it/courses/weekly-schedule/lecture-room-euler/lecture.2019-11-15.2681737512
CLASS:PUBLIC
END:VEVENT
END:VCALENDAR
