BEGIN:VCALENDAR
PRODID:-//AT Content Types//AT Event//EN
VERSION:2.0
METHOD:PUBLISH
BEGIN:VEVENT
DTSTAMP:20260423T053114Z
CREATED:20191114T144851Z
UID:ATEvent-a9ebc3f8272249808956ff327b5f3bf8
LAST-MODIFIED:20191114T144851Z
SUMMARY:HEP-QFT
DTSTART:20200220T150000Z
DTEND:20200220T163000Z
LOCATION:Lecture Room Euler
CONTACT:S. Randjbar-Daemi
URL:https://diploma-clear.ictp.it/courses/weekly-schedule/lecture-room-euler/lecture.2019-11-14.9313902489
CLASS:PUBLIC
END:VEVENT
END:VCALENDAR
