BEGIN:VCALENDAR
PRODID:-//AT Content Types//AT Event//EN
VERSION:1.0
BEGIN:VEVENT
DTSTART:20191003T070000Z
DTEND:20191003T083000Z
DCREATED:20190805T085906Z
UID:ATEvent-c447d8199ceb49a7b4873386072b6726
SEQUENCE:0
LAST-MODIFIED:20190805T085906Z
SUMMARY:CMP-EPS
LOCATION:Lecture Room Euler
PRIORITY:3
TRANSP:0
END:VEVENT
END:VCALENDAR
