BEGIN:VCALENDAR
PRODID:-//AT Content Types//AT Event//EN
VERSION:2.0
METHOD:PUBLISH
BEGIN:VEVENT
DTSTAMP:20260423T053121Z
CREATED:20190802T153941Z
UID:ATEvent-a2a416a4004a4ec2a3435e868e1f39d3
LAST-MODIFIED:20190802T153953Z
SUMMARY:HEP-QED
DTSTART:20191105T130000Z
DTEND:20191105T143000Z
LOCATION:Lecture Room Euler
CONTACT:G. Villadoro
URL:https://diploma-clear.ictp.it/courses/weekly-schedule/lecture-room-euler/lecture.2019-08-02.3812293357
CLASS:PUBLIC
END:VEVENT
END:VCALENDAR
