BEGIN:VCALENDAR
PRODID:-//AT Content Types//AT Event//EN
VERSION:2.0
METHOD:PUBLISH
BEGIN:VEVENT
DTSTAMP:20260423T035114Z
CREATED:20190724T143706Z
UID:ATEvent-b5d34aadabcc40209ca87cde71cb16c1
LAST-MODIFIED:20190913T074530Z
SUMMARY:HEP-LL
DTSTART:20190919T090000Z
DTEND:20190919T103000Z
LOCATION:Lecture Room Euler
CONTACT:K.S. Narain
URL:https://diploma-clear.ictp.it/courses/weekly-schedule/lecture-room-euler/lecture.2019-07-24.0260020043
CLASS:PUBLIC
END:VEVENT
END:VCALENDAR
