BEGIN:VCALENDAR
PRODID:-//AT Content Types//AT Event//EN
VERSION:2.0
METHOD:PUBLISH
BEGIN:VEVENT
DTSTAMP:20260423T071452Z
CREATED:20190201T093313Z
UID:ATEvent-74ce1351c5564770ac5531e9d3c84e0b
LAST-MODIFIED:20190201T093313Z
SUMMARY:HEP-QFT tut.
DTSTART:20190207T100000Z
DTEND:20190207T113000Z
LOCATION:Lecture Room Euler
CONTACT:E. Svanes
URL:https://diploma-clear.ictp.it/courses/weekly-schedule/lecture-room-euler/lecture.2019-02-01.5937537977
CLASS:PUBLIC
END:VEVENT
END:VCALENDAR
