BEGIN:VCALENDAR
PRODID:-//AT Content Types//AT Event//EN
VERSION:2.0
METHOD:PUBLISH
BEGIN:VEVENT
DTSTAMP:20260424T212042Z
CREATED:20190201T093312Z
UID:ATEvent-ddb75fa059694fbabef0294c4fdb1dc6
LAST-MODIFIED:20190201T093313Z
SUMMARY:HEP-QFT tut.
DTSTART:20190205T100000Z
DTEND:20190205T113000Z
LOCATION:Lecture Room Euler
CONTACT:E. Svanes
URL:https://diploma-clear.ictp.it/courses/weekly-schedule/lecture-room-euler/lecture.2019-02-01.5929082441
CLASS:PUBLIC
END:VEVENT
END:VCALENDAR
