BEGIN:VCALENDAR
PRODID:-//AT Content Types//AT Event//EN
VERSION:1.0
BEGIN:VEVENT
DTSTART:20190329T150000Z
DTEND:20190329T163000Z
DCREATED:20190118T155409Z
UID:ATEvent-b0478f5ed3794217af4435da546f605c
SEQUENCE:0
LAST-MODIFIED:20190313T093230Z
SUMMARY:HEP-SM tut.
LOCATION:Lecture Room Euler
PRIORITY:3
TRANSP:0
END:VEVENT
END:VCALENDAR
