BEGIN:VCALENDAR
PRODID:-//AT Content Types//AT Event//EN
VERSION:2.0
METHOD:PUBLISH
BEGIN:VEVENT
DTSTAMP:20260422T194157Z
CREATED:20181207T150419Z
UID:ATEvent-78df58032cde4e7888a4f560161870c8
LAST-MODIFIED:20181207T150420Z
SUMMARY:CMP-ASM
DTSTART:20190409T140000Z
DTEND:20190409T153000Z
LOCATION:Lecture Room Euler
CONTACT:A. Scardicchio
URL:https://diploma-clear.ictp.it/courses/weekly-schedule/lecture-room-euler/lecture.2018-12-07.0599035637
CLASS:PUBLIC
END:VEVENT
END:VCALENDAR
