BEGIN:VCALENDAR
PRODID:-//AT Content Types//AT Event//EN
VERSION:2.0
METHOD:PUBLISH
BEGIN:VEVENT
DTSTAMP:20260420T210216Z
CREATED:20181122T103939Z
UID:ATEvent-c9a1b9a439064bb78c929fed13d0b73b
LAST-MODIFIED:20190117T140344Z
SUMMARY:HEP-SM
DTSTART:20190225T100000Z
DTEND:20190225T113000Z
LOCATION:Lecture Room Euler
CONTACT:G. Senjanovic
URL:https://diploma-clear.ictp.it/courses/weekly-schedule/lecture-room-euler/lecture.2018-11-22.1794955433
CLASS:PUBLIC
END:VEVENT
END:VCALENDAR
