BEGIN:VCALENDAR
PRODID:-//AT Content Types//AT Event//EN
VERSION:1.0
BEGIN:VEVENT
DTSTART:20190121T150000Z
DTEND:20190121T163000Z
DCREATED:20181121T110507Z
UID:ATEvent-51dc8dbd3a06425e8639f4e7ab58cde0
SEQUENCE:0
LAST-MODIFIED:20181121T110851Z
SUMMARY:HEP-QFT
LOCATION:Lecture Room Euler
PRIORITY:3
TRANSP:0
END:VEVENT
END:VCALENDAR
