BEGIN:VCALENDAR
PRODID:-//AT Content Types//AT Event//EN
VERSION:1.0
BEGIN:VEVENT
DTSTART:20181128T100000Z
DTEND:20181128T113000Z
DCREATED:20181119T141447Z
UID:ATEvent-00fd6cca0fd845a5b60a9b1a4dfd4d79
SEQUENCE:0
LAST-MODIFIED:20181119T141447Z
SUMMARY:HEP-PP tut.
LOCATION:Lecture Room Euler
PRIORITY:3
TRANSP:0
END:VEVENT
END:VCALENDAR
