BEGIN:VCALENDAR
PRODID:-//AT Content Types//AT Event//EN
VERSION:1.0
BEGIN:VEVENT
DTSTART:20181123T130000Z
DTEND:20181123T143000Z
DCREATED:20180822T081940Z
UID:ATEvent-59cbd98ad142497ab5a1ee6507c33583
SEQUENCE:0
LAST-MODIFIED:20180822T081940Z
SUMMARY:HEP-QED
LOCATION:Lecture Room Euler
PRIORITY:3
TRANSP:0
END:VEVENT
END:VCALENDAR
