BEGIN:VCALENDAR
PRODID:-//AT Content Types//AT Event//EN
VERSION:2.0
METHOD:PUBLISH
BEGIN:VEVENT
DTSTAMP:20260426T000612Z
CREATED:20180822T081940Z
UID:ATEvent-a57491fe6a6d4ba8888083322549f771
LAST-MODIFIED:20180822T081940Z
SUMMARY:HEP-QED
DTSTART:20181119T130000Z
DTEND:20181119T143000Z
LOCATION:Lecture Room Euler
CONTACT:G. Villadoro
URL:https://diploma-clear.ictp.it/courses/weekly-schedule/lecture-room-euler/lecture.2018-08-22.9802117136
CLASS:PUBLIC
END:VEVENT
END:VCALENDAR
