BEGIN:VCALENDAR
PRODID:-//AT Content Types//AT Event//EN
VERSION:2.0
METHOD:PUBLISH
BEGIN:VEVENT
DTSTAMP:20260425T225900Z
CREATED:20180822T101419Z
UID:ATEvent-62cb0355e1dc43799590a2425e353c92
LAST-MODIFIED:20180822T101419Z
SUMMARY:HEP-FUN
DTSTART:20180919T140000Z
DTEND:20180919T153000Z
LOCATION:Lecture Room Euler
CONTACT:S. Randjbar-Daemi
URL:https://diploma-clear.ictp.it/courses/weekly-schedule/lecture-room-euler/lecture.2018-08-22.8595531132
CLASS:PUBLIC
END:VEVENT
END:VCALENDAR
