BEGIN:VCALENDAR
PRODID:-//AT Content Types//AT Event//EN
VERSION:1.0
BEGIN:VEVENT
DTSTART:20181002T070000Z
DTEND:20181002T083000Z
DCREATED:20180802T135450Z
UID:ATEvent-8394aa1a45be48cfb02bbcd18a95433d
SEQUENCE:0
LAST-MODIFIED:20180802T135450Z
SUMMARY:CMP-EPS
LOCATION:Lecture Room Euler
PRIORITY:3
TRANSP:0
END:VEVENT
END:VCALENDAR
