BEGIN:VCALENDAR
PRODID:-//AT Content Types//AT Event//EN
VERSION:1.0
BEGIN:VEVENT
DTSTART:20180413T140000Z
DTEND:20180413T153000Z
DCREATED:20180412T140343Z
UID:ATEvent-d3023a17dbaf44578361ec5425c410c4
SEQUENCE:0
LAST-MODIFIED:20180412T140423Z
SUMMARY:HEP-SM
LOCATION:Lecture Room Euler
PRIORITY:3
TRANSP:0
END:VEVENT
END:VCALENDAR
