BEGIN:VCALENDAR
PRODID:-//AT Content Types//AT Event//EN
VERSION:2.0
METHOD:PUBLISH
BEGIN:VEVENT
DTSTAMP:20260420T143907Z
CREATED:20180213T165647Z
UID:ATEvent-4f127d17ddb24ba482a4bc782fc4c7ed
LAST-MODIFIED:20180213T165647Z
SUMMARY:HEP-QFT tut.
DTSTART:20180313T100000Z
DTEND:20180313T113000Z
LOCATION:Lecture Room Euler
CONTACT:Eirik Svanes
URL:https://diploma-clear.ictp.it/courses/weekly-schedule/lecture-room-euler/lecture.2018-02-13.0078519305
CLASS:PUBLIC
END:VEVENT
END:VCALENDAR
