BEGIN:VCALENDAR
PRODID:-//AT Content Types//AT Event//EN
VERSION:1.0
BEGIN:VEVENT
DTSTART:20180214T080000Z
DTEND:20180214T093000Z
DCREATED:20171127T155805Z
UID:ATEvent-32425d4d9f464077bdfab4f87e01d48c
SEQUENCE:0
LAST-MODIFIED:20171127T155805Z
SUMMARY:CMP-MBP
LOCATION:Lecture Room Euler
PRIORITY:3
TRANSP:0
END:VEVENT
END:VCALENDAR
