BEGIN:VCALENDAR
PRODID:-//AT Content Types//AT Event//EN
VERSION:2.0
METHOD:PUBLISH
BEGIN:VEVENT
DTSTAMP:20260421T104028Z
CREATED:20170726T140338Z
UID:ATEvent-87542c98f5d649d39a7d66ae7d80bee9
LAST-MODIFIED:20170726T140338Z
SUMMARY:CMP-EPS
DTSTART:20171002T070000Z
DTEND:20171002T083000Z
LOCATION:Lecture Room Euler
CONTACT:N. Binggeli
URL:https://diploma-clear.ictp.it/courses/weekly-schedule/lecture-room-euler/lecture.2017-07-26.8187057215
CLASS:PUBLIC
END:VEVENT
END:VCALENDAR
