BEGIN:VCALENDAR
PRODID:-//AT Content Types//AT Event//EN
VERSION:1.0
BEGIN:VEVENT
DTSTART:20171208T100000Z
DTEND:20171208T113000Z
DCREATED:20170714T084630Z
UID:ATEvent-a0b4d87f6c5149bf9dbd74bffcd27082
SEQUENCE:0
LAST-MODIFIED:20170714T084630Z
SUMMARY:HEP-PP
LOCATION:Lecture Room Euler
PRIORITY:3
TRANSP:0
END:VEVENT
END:VCALENDAR
