BEGIN:VCALENDAR
PRODID:-//AT Content Types//AT Event//EN
VERSION:1.0
BEGIN:VEVENT
DTSTART:20171212T130000Z
DTEND:20171212T143000Z
DCREATED:20170714T092222Z
UID:ATEvent-faaab6980e4843009f96025545c07d73
SEQUENCE:0
LAST-MODIFIED:20170714T092222Z
SUMMARY:HEP-QED
LOCATION:Lecture Room Euler
PRIORITY:3
TRANSP:0
END:VEVENT
END:VCALENDAR
