BEGIN:VCALENDAR
PRODID:-//AT Content Types//AT Event//EN
VERSION:2.0
METHOD:PUBLISH
BEGIN:VEVENT
DTSTAMP:20260425T022108Z
CREATED:20170714T092222Z
UID:ATEvent-ce9fabc1168b48c58f17b0cc1f85872e
LAST-MODIFIED:20170714T092222Z
SUMMARY:HEP-QED
DTSTART:20171211T130000Z
DTEND:20171211T143000Z
LOCATION:Lecture Room Euler
CONTACT:G. Villadoro
URL:https://diploma-clear.ictp.it/courses/weekly-schedule/lecture-room-euler/lecture.2017-07-14.1427029696
CLASS:PUBLIC
END:VEVENT
END:VCALENDAR
