BEGIN:VCALENDAR
PRODID:-//AT Content Types//AT Event//EN
VERSION:2.0
METHOD:PUBLISH
BEGIN:VEVENT
DTSTAMP:20260420T030240Z
CREATED:20170714T092221Z
UID:ATEvent-f2323ffb9cbb48358d17297ed29ea5c0
LAST-MODIFIED:20170714T092221Z
SUMMARY:HEP-QED
DTSTART:20171127T130000Z
DTEND:20171127T143000Z
LOCATION:Lecture Room Euler
CONTACT:G. Villadoro
URL:https://diploma-clear.ictp.it/courses/weekly-schedule/lecture-room-euler/lecture.2017-07-14.1416406670
CLASS:PUBLIC
END:VEVENT
END:VCALENDAR
