BEGIN:VCALENDAR
PRODID:-//AT Content Types//AT Event//EN
VERSION:1.0
BEGIN:VEVENT
DTSTART:20171109T130000Z
DTEND:20171109T143000Z
DCREATED:20170714T092220Z
UID:ATEvent-e5499ace84ac449d9e9c0eebaddd5384
SEQUENCE:0
LAST-MODIFIED:20170714T092220Z
SUMMARY:HEP-QED
LOCATION:Lecture Room Euler
PRIORITY:3
TRANSP:0
END:VEVENT
END:VCALENDAR
