BEGIN:VCALENDAR
PRODID:-//AT Content Types//AT Event//EN
VERSION:1.0
BEGIN:VEVENT
DTSTART:20171002T090000Z
DTEND:20171002T103000Z
DCREATED:20170712T142208Z
UID:ATEvent-3833c196c3074228b0aec18c03fb0a26
SEQUENCE:0
LAST-MODIFIED:20170712T142208Z
SUMMARY:HEP-RQM
LOCATION:Lecture Room Euler
PRIORITY:3
TRANSP:0
END:VEVENT
END:VCALENDAR
