BEGIN:VCALENDAR
PRODID:-//AT Content Types//AT Event//EN
VERSION:2.0
METHOD:PUBLISH
BEGIN:VEVENT
DTSTAMP:20260420T143730Z
CREATED:20170327T152539Z
UID:ATEvent-5bbf0baeae6c4970a0962b9586dfacd4
LAST-MODIFIED:20170327T152539Z
SUMMARY:HEP-SFT
DTSTART:20170526T090000Z
DTEND:20170526T103000Z
LOCATION:Lecture Room Euler
CONTACT:S. Randjbar-Daemi
URL:https://diploma-clear.ictp.it/courses/weekly-schedule/lecture-room-euler/lecture.2017-03-27.3397760496
CLASS:PUBLIC
END:VEVENT
END:VCALENDAR
