BEGIN:VCALENDAR
PRODID:-//AT Content Types//AT Event//EN
VERSION:1.0
BEGIN:VEVENT
DTSTART:20170224T130000Z
DTEND:20170224T143000Z
DCREATED:20170220T115309Z
UID:ATEvent-f94a7e59027440239caaf6a071a3ee24
SEQUENCE:0
LAST-MODIFIED:20170220T115332Z
SUMMARY:HEP-GR
LOCATION:Lecture Room Euler
PRIORITY:3
TRANSP:0
END:VEVENT
END:VCALENDAR
