BEGIN:VCALENDAR
PRODID:-//AT Content Types//AT Event//EN
VERSION:2.0
METHOD:PUBLISH
BEGIN:VEVENT
DTSTAMP:20260425T225824Z
CREATED:20161220T093832Z
UID:ATEvent-b3dbf41b2ca7453587d44c1154530bfd
LAST-MODIFIED:20161220T093832Z
SUMMARY:HEP-SM
DTSTART:20170412T140000Z
DTEND:20170412T153000Z
LOCATION:Lecture Room Euler
CONTACT:G. Senjanovic
URL:https://diploma-clear.ictp.it/courses/weekly-schedule/lecture-room-euler/lecture.2016-12-20.7123857155
CLASS:PUBLIC
END:VEVENT
END:VCALENDAR
