BEGIN:VCALENDAR
PRODID:-//AT Content Types//AT Event//EN
VERSION:1.0
BEGIN:VEVENT
DTSTART:20170125T150000Z
DTEND:20170125T163000Z
DCREATED:20161214T091731Z
UID:ATEvent-2f31cb19fb3c48dc8319f1ef152a7a99
SEQUENCE:0
LAST-MODIFIED:20161214T091731Z
SUMMARY:Abdus Salam Distinguished Lectures
LOCATION:Lecture Room Euler
PRIORITY:3
TRANSP:0
END:VEVENT
END:VCALENDAR
