BEGIN:VCALENDAR
PRODID:-//AT Content Types//AT Event//EN
VERSION:2.0
METHOD:PUBLISH
BEGIN:VEVENT
DTSTAMP:20260422T055231Z
CREATED:20161207T151629Z
UID:ATEvent-fdc303e3db00435aa57abd55a6abe855
LAST-MODIFIED:20161207T151630Z
SUMMARY:CMP-ASM
DTSTART:20170406T070000Z
DTEND:20170406T083000Z
LOCATION:Lecture Room Euler
CONTACT:A. Scardicchio
URL:https://diploma-clear.ictp.it/courses/weekly-schedule/lecture-room-euler/lecture.2016-12-07.7898990301
CLASS:PUBLIC
END:VEVENT
END:VCALENDAR
