BEGIN:VCALENDAR
PRODID:-//AT Content Types//AT Event//EN
VERSION:2.0
METHOD:PUBLISH
BEGIN:VEVENT
DTSTAMP:20260419T165220Z
CREATED:20161207T102020Z
UID:ATEvent-89612a20897641b8bb559d0d4194a217
LAST-MODIFIED:20161207T102020Z
SUMMARY:HEP-GR
DTSTART:20170420T120000Z
DTEND:20170420T133000Z
LOCATION:Lecture Room Euler
CONTACT:P. Creminelli
URL:https://diploma-clear.ictp.it/courses/weekly-schedule/lecture-room-euler/lecture.2016-12-07.0199955387
CLASS:PUBLIC
END:VEVENT
END:VCALENDAR
