BEGIN:VCALENDAR
PRODID:-//AT Content Types//AT Event//EN
VERSION:2.0
METHOD:PUBLISH
BEGIN:VEVENT
DTSTAMP:20260422T194320Z
CREATED:20161206T103141Z
UID:ATEvent-d03ee9dce88942d99bd4eacf601bf1db
LAST-MODIFIED:20161206T103141Z
SUMMARY:HEP-QFT
DTSTART:20170310T100000Z
DTEND:20170310T113000Z
LOCATION:Lecture Room Euler
CONTACT:A. Dabholkar
URL:https://diploma-clear.ictp.it/courses/weekly-schedule/lecture-room-euler/lecture.2016-12-06.3011666789
CLASS:PUBLIC
END:VEVENT
END:VCALENDAR
