BEGIN:VCALENDAR
PRODID:-//AT Content Types//AT Event//EN
VERSION:1.0
BEGIN:VEVENT
DTSTART:20170306T100000Z
DTEND:20170306T113000Z
DCREATED:20161206T103140Z
UID:ATEvent-ceb56b5a394a4ffe93855615993ac6aa
SEQUENCE:0
LAST-MODIFIED:20170303T111341Z
SUMMARY:HEP-QFT
LOCATION:Lecture Room Euler
PRIORITY:3
TRANSP:0
END:VEVENT
END:VCALENDAR
