BEGIN:VCALENDAR
PRODID:-//AT Content Types//AT Event//EN
VERSION:1.0
BEGIN:VEVENT
DTSTART:20170207T100000Z
DTEND:20170207T113000Z
DCREATED:20161206T103139Z
UID:ATEvent-2155fa0b5dc84949966e7d9abc6021ef
SEQUENCE:0
LAST-MODIFIED:20161206T103139Z
SUMMARY:HEP-QFT
LOCATION:Lecture Room Euler
PRIORITY:3
TRANSP:0
END:VEVENT
END:VCALENDAR
