BEGIN:VCALENDAR
PRODID:-//AT Content Types//AT Event//EN
VERSION:2.0
METHOD:PUBLISH
BEGIN:VEVENT
DTSTAMP:20260424T212041Z
CREATED:20160901T141210Z
UID:ATEvent-1332c1da17b649039e271950261ecd02
LAST-MODIFIED:20161110T085013Z
SUMMARY:HEP-QED tut.
DTSTART:20161118T130000Z
DTEND:20161118T143000Z
LOCATION:Lecture Room Euler
CONTACT:L. Alberte
URL:https://diploma-clear.ictp.it/courses/weekly-schedule/lecture-room-euler/lecture.2016-09-01.1308931170
CLASS:PUBLIC
END:VEVENT
END:VCALENDAR
