BEGIN:VCALENDAR
PRODID:-//AT Content Types//AT Event//EN
VERSION:2.0
METHOD:PUBLISH
BEGIN:VEVENT
DTSTAMP:20260425T225710Z
CREATED:20160803T115114Z
UID:ATEvent-a46619d9ebb54ef1bce294b1f8a70208
LAST-MODIFIED:20161115T110207Z
SUMMARY:HEP-PP
DTSTART:20161202T100000Z
DTEND:20161202T113000Z
LOCATION:Lecture Room Euler
CONTACT:A. Smirnov
URL:https://diploma-clear.ictp.it/courses/weekly-schedule/lecture-room-euler/lecture.2016-08-03.0740555577
CLASS:PUBLIC
END:VEVENT
END:VCALENDAR
