BEGIN:VCALENDAR
PRODID:-//AT Content Types//AT Event//EN
VERSION:1.0
BEGIN:VEVENT
DTSTART:20160915T153000Z
DTEND:20160915T170000Z
DCREATED:20160720T122956Z
UID:ATEvent-a572af1749c14b58b75b2c9acc060720
SEQUENCE:0
LAST-MODIFIED:20160720T122956Z
SUMMARY:Italian Lectures
LOCATION:Lecture Room Euler
PRIORITY:3
TRANSP:0
END:VEVENT
END:VCALENDAR
