BEGIN:VCALENDAR
PRODID:-//AT Content Types//AT Event//EN
VERSION:2.0
METHOD:PUBLISH
BEGIN:VEVENT
DTSTAMP:20260420T143431Z
CREATED:20160720T123758Z
UID:ATEvent-ebab73058e34493a868e523f748fc584
LAST-MODIFIED:20160720T123758Z
SUMMARY:HEP-RQM
DTSTART:20160919T090000Z
DTEND:20160919T103000Z
LOCATION:Lecture Room Euler
CONTACT:S. Randjbar-Daemi
URL:https://diploma-clear.ictp.it/courses/weekly-schedule/lecture-room-euler/lecture.2016-07-20.2784157912
CLASS:PUBLIC
END:VEVENT
END:VCALENDAR
