BEGIN:VCALENDAR
PRODID:-//AT Content Types//AT Event//EN
VERSION:2.0
METHOD:PUBLISH
BEGIN:VEVENT
DTSTAMP:20260420T222529Z
CREATED:20160513T115512Z
UID:ATEvent-34bb5b3b8e774fd289809e2ace2e183a
LAST-MODIFIED:20160516T101810Z
SUMMARY:HEP-QFT
DTSTART:20160523T090000Z
DTEND:20160523T103000Z
LOCATION:Lecture Room Euler
CONTACT:A. Dabholkar
URL:https://diploma-clear.ictp.it/courses/weekly-schedule/lecture-room-euler/lecture.2016-05-13.5122867484
CLASS:PUBLIC
END:VEVENT
END:VCALENDAR
