BEGIN:VCALENDAR
PRODID:-//AT Content Types//AT Event//EN
VERSION:2.0
METHOD:PUBLISH
BEGIN:VEVENT
DTSTAMP:20260420T224314Z
CREATED:20151207T134141Z
UID:ATEvent-18801d390a7a408b9c8d4b5e8741edf3
LAST-MODIFIED:20160208T103114Z
SUMMARY:HEP-GR tut.
DTSTART:20160219T130000Z
DTEND:20160219T143000Z
LOCATION:Lecture Room Euler
CONTACT:A. Khmelnitski
URL:https://diploma-clear.ictp.it/courses/weekly-schedule/lecture-room-euler/lecture.2015-12-07.7013617144
CLASS:PUBLIC
END:VEVENT
END:VCALENDAR
