BEGIN:VCALENDAR
PRODID:-//AT Content Types//AT Event//EN
VERSION:1.0
BEGIN:VEVENT
DTSTART:20160205T150000Z
DTEND:20160205T163000Z
DCREATED:20151207T133838Z
UID:ATEvent-598278cbfaba43bbaf0506e796f44637
SEQUENCE:0
LAST-MODIFIED:20151207T133839Z
SUMMARY:HEP-QFT tut.
LOCATION:Lecture Room Euler
PRIORITY:3
TRANSP:0
END:VEVENT
END:VCALENDAR
