BEGIN:VCALENDAR
PRODID:-//AT Content Types//AT Event//EN
VERSION:1.0
BEGIN:VEVENT
DTSTART:20160426T120000Z
DTEND:20160426T133000Z
DCREATED:20151207T133229Z
UID:ATEvent-09f4140dd89f48f3a29e775e48df393c
SEQUENCE:0
LAST-MODIFIED:20160125T134035Z
SUMMARY:HEP-GR
LOCATION:Lecture Room Euler
PRIORITY:3
TRANSP:0
END:VEVENT
END:VCALENDAR
