BEGIN:VCALENDAR
PRODID:-//AT Content Types//AT Event//EN
VERSION:2.0
METHOD:PUBLISH
BEGIN:VEVENT
DTSTAMP:20260423T021046Z
CREATED:20151207T134909Z
UID:ATEvent-411696b5e8e443c0a51e1ebe3446a698
LAST-MODIFIED:20151207T134909Z
SUMMARY:CMP-MBP
DTSTART:20160217T080000Z
DTEND:20160217T093000Z
LOCATION:Lecture Room Euler
CONTACT:M. Kiselev
URL:https://diploma-clear.ictp.it/courses/weekly-schedule/lecture-room-euler/lecture.2015-12-07.1492114257
CLASS:PUBLIC
END:VEVENT
END:VCALENDAR
