BEGIN:VCALENDAR
PRODID:-//AT Content Types//AT Event//EN
VERSION:1.0
BEGIN:VEVENT
DTSTART:20150907T120000Z
DTEND:20150907T133000Z
DCREATED:20150827T135545Z
UID:ATEvent-fd8e4a2868ac483499fa30806aa774e4
SEQUENCE:0
LAST-MODIFIED:20150827T135545Z
SUMMARY:HEP-LL
LOCATION:Lecture Room Euler
PRIORITY:3
TRANSP:0
END:VEVENT
END:VCALENDAR
