BEGIN:VCALENDAR
PRODID:-//AT Content Types//AT Event//EN
VERSION:1.0
BEGIN:VEVENT
DTSTART:20150910T153000Z
DTEND:20150910T170000Z
DCREATED:20150827T125602Z
UID:ATEvent-211a21bb6d314a809939509ce5967851
SEQUENCE:0
LAST-MODIFIED:20150827T125602Z
SUMMARY:Italian Lectures
LOCATION:Lecture Room Euler
PRIORITY:3
TRANSP:0
END:VEVENT
END:VCALENDAR
