BEGIN:VCALENDAR
PRODID:-//AT Content Types//AT Event//EN
VERSION:2.0
METHOD:PUBLISH
BEGIN:VEVENT
DTSTAMP:20260423T035235Z
CREATED:20150827T125602Z
UID:ATEvent-e7b8ad02c4a042d2a5d54033dbdae921
LAST-MODIFIED:20150827T125602Z
SUMMARY:Italian Lectures
DTSTART:20150908T153000Z
DTEND:20150908T170000Z
LOCATION:Lecture Room Euler
CONTACT:A. De Marchi
URL:https://diploma-clear.ictp.it/courses/weekly-schedule/lecture-room-euler/lecture.2015-08-27.1624507974
CLASS:PUBLIC
END:VEVENT
END:VCALENDAR
