BEGIN:VCALENDAR
PRODID:-//AT Content Types//AT Event//EN
VERSION:2.0
METHOD:PUBLISH
BEGIN:VEVENT
DTSTAMP:20260422T225005Z
CREATED:20150827T141725Z
UID:ATEvent-a88594a8010f49c6871d3f352e487940
LAST-MODIFIED:20150827T141725Z
SUMMARY:HEP-QED tut.
DTSTART:20151120T130000Z
DTEND:20151120T143000Z
LOCATION:Lecture Room Euler
CONTACT:D. Musso
URL:https://diploma-clear.ictp.it/courses/weekly-schedule/lecture-room-euler/lecture.2015-08-27.0455866967
CLASS:PUBLIC
END:VEVENT
END:VCALENDAR
