BEGIN:VCALENDAR
PRODID:-//AT Content Types//AT Event//EN
VERSION:1.0
BEGIN:VEVENT
DTSTART:20150507T070000Z
DTEND:20150507T083000Z
DCREATED:20150414T095217Z
UID:ATEvent-22ac4be0ee7447a0aa71bf7055257d15
SEQUENCE:0
LAST-MODIFIED:20150414T095313Z
SUMMARY:HEP-GR
LOCATION:Lecture Room Euler
PRIORITY:3
TRANSP:0
END:VEVENT
END:VCALENDAR
