BEGIN:VCALENDAR
PRODID:-//AT Content Types//AT Event//EN
VERSION:2.0
METHOD:PUBLISH
BEGIN:VEVENT
DTSTAMP:20260425T042146Z
CREATED:20150409T133149Z
UID:ATEvent-ba023632d54d40208715d31a2db04afa
LAST-MODIFIED:20150409T133149Z
SUMMARY:HEP-QFT
DTSTART:20150423T090000Z
DTEND:20150423T103000Z
LOCATION:Lecture Room Euler
CONTACT:K.S. Narain
URL:https://diploma-clear.ictp.it/courses/weekly-schedule/lecture-room-euler/lecture.2015-04-09.3092653142
CLASS:PUBLIC
END:VEVENT
END:VCALENDAR
